BEGIN:VCALENDAR
VERSION:2.0
PRODID:-//wp-events-plugin.com//7.2.3.1//EN
TZID:Europe/Berlin
X-WR-TIMEZONE:Europe/Berlin
BEGIN:VEVENT
UID:1-20@clowns-schule.de
DTSTART;TZID=Europe/Berlin:20171105T170000
DTEND;TZID=Europe/Berlin:20171105T190000
DTSTAMP:20200729T175624Z
URL:https://clowns-schule.de/veranstaltungen/auffuehrung-die-zambalas-mit-
 ihrem-neuen-programm-mascarade/
SUMMARY:Aufführung in Düsseldorf: die Zambalas mit ihrem neuen Programm "
 Mascarade"
DESCRIPTION:Die Aufführung der Zambalas mit ihrem neuen Programm "Mascarad
 e" findet am Sonntag\, 05.11.2017\, 17-19 Uhr\,  in der Freizeitstätte D
 üsseldorf-Garath\, Fritz-Erler-Str. 21\, 40595 Düsseldorf\, statt.\n90 M
 inuten Lachen\, Besinnung und Herzenswärme!\nClownerie für Erwachsene\, 
 Kinder herzlich willkommen.\nDas Ticket kostet 12€\, für Kinder bis 10 
 Jahre ist der Eintritt frei.\n\nDer Kartenkauf ist ebenfalls an der Abendk
 asse ab 16:30 Uhr möglich.\n\nDatum/Zeit\n05.11.2017\n17:00 - 19:00
CATEGORIES:Die Zambalas
END:VEVENT
BEGIN:VTIMEZONE
TZID:Europe/Berlin
X-LIC-LOCATION:Europe/Berlin
BEGIN:STANDARD
DTSTART:20171029T020000
TZOFFSETFROM:+0200
TZOFFSETTO:+0100
TZNAME:CET
END:STANDARD
END:VTIMEZONE
END:VCALENDAR