BEGIN:VCALENDAR
VERSION:2.0
PRODID:-//wp-events-plugin.com//7.2.3.1//EN
TZID:Europe/Berlin
X-WR-TIMEZONE:Europe/Berlin
BEGIN:VEVENT
UID:1-59@clowns-schule.de
DTSTART;TZID=Europe/Berlin:20191005T000000
DTEND;TZID=Europe/Berlin:20191005T000000
DTSTAMP:20190112T103337Z
URL:https://clowns-schule.de/veranstaltungen/entdecke-die-clownin-in-dir-k
 ennenlertag-2/
SUMMARY:Wie werde ich Clownin?   Kennenlerntag: Gespräch und Praxis
DESCRIPTION:KennenlernTag in der ClownsZeit\n\nDie Clownin zu entdecken ist
  ein möglicher Weg\, den Kontakt in uns lebendig werden zu lassen\, der u
 ns erlaubt\, Lebensthemen und Alltagssituationen aus einer humorvollen Per
 spektive zu betrachten.\n\nDie Übungen\, die Verspieltheit\, Narrenfreihe
 it und die Vielfalt der Ausdrucksmöglichkeiten fördern\, stärken unsere
  Vitalität\, Lebensfreude und unseren Mut. Sie lehren uns\, sogenannte Un
 zulänglichkeiten als eine energetisch wertvolle Spiel- und Wachstumsmögl
 ichkeit zu erleben. Darüberhinaus wird die Arbeit als CliniClownin angesp
 rochen.\n\nLeitung: Denise May\n\nZeit: 10-16 Uhr\nKosten: 60 Euro.\n\nBit
 te kommen Sie in bequemer Kleidung und bringen Sie Turn-\, Gymnastikschlü
 ppchen oder Stoppersocken mit.\n\nBitte melden Sie sich vorher an.\n\n&nbs
 p\;
END:VEVENT
BEGIN:VTIMEZONE
TZID:Europe/Berlin
X-LIC-LOCATION:Europe/Berlin
BEGIN:DAYLIGHT
DTSTART:20190331T030000
TZOFFSETFROM:+0100
TZOFFSETTO:+0200
TZNAME:CEST
END:DAYLIGHT
END:VTIMEZONE
END:VCALENDAR