BEGIN:VCALENDAR
VERSION:2.0
PRODID:-//wp-events-plugin.com//7.2.3.1//EN
TZID:Europe/Berlin
X-WR-TIMEZONE:Europe/Berlin
BEGIN:VEVENT
UID:1-153@clowns-schule.de
DTSTART;TZID=Europe/Berlin;VALUE=DATE:20210401
DTEND;TZID=Europe/Berlin;VALUE=DATE:20210430
DTSTAMP:20210203T140045Z
URL:https://clowns-schule.de/veranstaltungen/in-schwierigen-zeiten-bleib-i
 n-bewegung-werde-kreativ-einzelbegleitung-5/
SUMMARY:In schwierigen Zeiten: bleib in Bewegung & werde kreativ ! Einzelbe
 gleitung
DESCRIPTION:In schwierigen Zeiten:\nbleib in Bewegung &amp\; werde kreativ!
  \n\n 	finde Entspannung\n 	erlaube dir\, Neues auszuprobieren \n 	nutze 
 die Herausforderung für deine individuelle Entfaltung\n 	\nentdecke\, was
  dich hindert und verändere\, was dir möglich ist\n\n\nEinzelbegleitung
    mit Denise May\nNeben Gesprächen gibt es noch eine Vielfalt von Ang
 eboten aus\nAtem-\, Tanz- und  Kunsttherapie sowie meditative Anregungen\
 nKosten á 75 min : 45-75 € (nach Selbsteinschätzung)\nTermine: Montag
 s - Donnerstags\n\nBitte vereinbare telefonisch 02202  - 2728100 oder per
  Email\ninfo@clowns-schule.de einen Termin.\n 
END:VEVENT
BEGIN:VTIMEZONE
TZID:Europe/Berlin
X-LIC-LOCATION:Europe/Berlin
BEGIN:DAYLIGHT
DTSTART:20210328T030000
TZOFFSETFROM:+0100
TZOFFSETTO:+0200
TZNAME:CEST
END:DAYLIGHT
END:VTIMEZONE
END:VCALENDAR