BEGIN:VCALENDAR
VERSION:2.0
PRODID:-//wp-events-plugin.com//7.2.3.1//EN
TZID:Europe/Berlin
X-WR-TIMEZONE:Europe/Berlin
BEGIN:VEVENT
UID:1-186@clowns-schule.de
DTSTART;TZID=Europe/Berlin:20211009T184500
DTEND;TZID=Europe/Berlin:20211009T191500
DTSTAMP:20210930T121305Z
URL:https://clowns-schule.de/veranstaltungen/mikado-die-zambalas-zeigen-au
 sschnitte-aus-ihrem-neuen-programm/
SUMMARY:"Mikado" Die Zambalas zeigen Ausschnitte aus ihrem neuen Programm
DESCRIPTION:Wir laden herzlich ein zur Aufführung der Zambalas\nsie zeigen
  Ausschnitte aus ihrem neuen Programm\n&nbsp\;\n"MIKADO"\n&nbsp\;\nIm Bür
 gerzentrum Ehrenfeld\, Venloer Str. 429\, 50825 Köln\nBeginn 18.45 Uhr\, 
 Einlass 1830  Uhr\nEintritt: Sondepreis: 10\,00 Euro\, Karten an der Aben
 dkasse\n&nbsp\;\nBitte bringt etwas Zeit mit für die coronagemässen Zutr
 ittsbestimmungen\n&nbsp\;
CATEGORIES:Die Zambalas
END:VEVENT
BEGIN:VTIMEZONE
TZID:Europe/Berlin
X-LIC-LOCATION:Europe/Berlin
BEGIN:DAYLIGHT
DTSTART:20210328T030000
TZOFFSETFROM:+0100
TZOFFSETTO:+0200
TZNAME:CEST
END:DAYLIGHT
END:VTIMEZONE
END:VCALENDAR