BEGIN:VCALENDAR
VERSION:2.0
PRODID:-//wp-events-plugin.com//7.2.3.1//EN
TZID:Europe/Berlin
X-WR-TIMEZONE:Europe/Berlin
BEGIN:VEVENT
UID:1-290@clowns-schule.de
DTSTART;TZID=Europe/Berlin:20261002T000000
DTEND;TZID=Europe/Berlin:20261004T000000
DTSTAMP:20260420T182506Z
URL:https://clowns-schule.de/veranstaltungen/start-clownbildung-herbst-202
 6-2027/
SUMMARY:Start ClownBildung Herbst 2026-2027
DESCRIPTION:Die Clownbildung besteht aus der Grundbildung und der Aufbaustu
 fe.\nZiele der Grundbildung sind:\n\n 	Das Wesen des ClownSeins kennenzule
 rnen.\n 	Das Erfahrene für die eigene\, persönliche Entwicklung zu nutze
 n.\n 	Das Erlernte in den eigenen Berufsalltag zu integrieren.\n 	Die Fäh
 igkeit zu vermitteln\, selbständig Clownsstücke zur Aufführung zu bring
 en.\n 	Auf die Arbeit als CliniClownin vorzubereiten.\n\nAls Abschluss der
  Grundbildung wird im Rahmen einer Werkprobe ein eigenes Clownsstück aufg
 eführt und nach einer schriftlichen Textarbeit das Zertifikat ausgestellt
 .\n\nBitte Prospekt anfordern\n\nVorraussetzung ist die Teilnahme an einem
  Kennenlernangebot\,\nein persönliches Bewerbungsgespräch und Offenheit 
 für Neues\n\nHier geht es zu den Termninen\, Kosten und Zeiten-Clownbildu
 ng-Herbst-2026-2027\n
END:VEVENT
BEGIN:VTIMEZONE
TZID:Europe/Berlin
X-LIC-LOCATION:Europe/Berlin
BEGIN:DAYLIGHT
DTSTART:20260329T030000
TZOFFSETFROM:+0100
TZOFFSETTO:+0200
TZNAME:CEST
END:DAYLIGHT
END:VTIMEZONE
END:VCALENDAR