BEGIN:VCALENDAR
VERSION:2.0
PRODID:-//wp-events-plugin.com//7.2.3.1//EN
TZID:Europe/Berlin
X-WR-TIMEZONE:Europe/Berlin
BEGIN:VEVENT
UID:1-97@clowns-schule.de
DTSTART;TZID=Europe/Berlin:20200305T000000
DTEND;TZID=Europe/Berlin:20200305T000000
DTSTAMP:20191007T183716Z
URL:https://clowns-schule.de/veranstaltungen/wie-werde-ich-clownin-kennenl
 ernabend-gespraeche-und-praxis-2/
SUMMARY:Wie werde ich Clownin? KennenlernAbend: Gespräche und Praxis.
DESCRIPTION:KennenlernAbend in der ClownsZeit\n\nDie Clownin zu entdecken i
 st ein möglicher Weg\, den Kontakt in uns lebendig werden zu lassen\, der
  uns erlaubt\, Lebensthemen und Alltagssituationen aus einer humorvollen P
 erspektive zu betrachten.\n\nDie Übungen\, die Verspieltheit\, Narrenfrei
 heit und die Vielfalt der Ausdrucksmöglichkeiten fördern\, stärken unse
 re Vitalität\, Lebensfreude und unseren Mut. Sie lehren uns\, sogenannte 
 Unzulänglichkeiten als eine energetisch wertvolle Spiel- und Wachstumsmö
 glichkeit zu erleben. Darüberhinaus wird die Arbeit als CliniClownin ange
 sprochen.\n\nLeitung: Denise May\n\nZeit: 18.15-20.45 Uhr\nKosten: 35\,00 
 Euro\n\nBitte kommen Sie in bequemer Kleidung und bringen Sie Turn-\, Gymn
 astikschlüppchen oder Stoppersocken mit.\n\nBitte melden Sie sich vorher 
 an
END:VEVENT
BEGIN:VTIMEZONE
TZID:Europe/Berlin
X-LIC-LOCATION:Europe/Berlin
BEGIN:STANDARD
DTSTART:20191027T020000
TZOFFSETFROM:+0200
TZOFFSETTO:+0100
TZNAME:CET
END:STANDARD
END:VTIMEZONE
END:VCALENDAR