BEGIN:VCALENDAR
VERSION:2.0
PRODID:-//wp-events-plugin.com//7.2.3.1//EN
TZID:Europe/Berlin
X-WR-TIMEZONE:Europe/Berlin
BEGIN:VEVENT
UID:1-189@clowns-schule.de
DTSTART;TZID=Europe/Berlin:20220519T181500
DTEND;TZID=Europe/Berlin:20220519T204500
DTSTAMP:20211126T095409Z
URL:https://clowns-schule.de/veranstaltungen/wie-werde-ich-clownin-kennenl
 ernabend-gespraeche-und-praxis-8/
SUMMARY:Wie werde ich Clownin? KennenlernAbend: Gespräche und Praxis
DESCRIPTION:KennenlernAbend in der ClownsZeit\n\nDie Clownin zu entdecken i
 st ein möglicher Weg\, den Kontakt in uns lebendig werden zu lassen\, der
  uns erlaubt\, Lebensthemen und Alltagssituationen aus einer humorvollen P
 erspektive zu betrachten.\n\nDie Übungen\, die Verspieltheit\, Narrenfrei
 heit und die Vielfalt der Ausdrucksmöglichkeiten fördern\, stärken unse
 re Vitalität\, Lebensfreude und unseren Mut. Sie lehren uns\, sogenannte 
 Unzulänglichkeiten als eine energetisch wertvolle Spiel- und Wachstumsmö
 glichkeit zu erleben. Darüberhinaus wird die Arbeit als CliniClownin ange
 sprochen.\n\nLeitung: Denise May\n\nZeit: 18.15-20.45 Uhr\nKosten: 35 Euro
 .\n\nBitte kommen Sie in bequemer Kleidung und bringen Sie Turn-\, Gymnast
 ikschlüppchen oder Stoppersocken mit.\n\nBitte melden Sie sich vorher an.
END:VEVENT
BEGIN:VTIMEZONE
TZID:Europe/Berlin
X-LIC-LOCATION:Europe/Berlin
BEGIN:DAYLIGHT
DTSTART:20220327T030000
TZOFFSETFROM:+0100
TZOFFSETTO:+0200
TZNAME:CEST
END:DAYLIGHT
END:VTIMEZONE
END:VCALENDAR